Package: RSVSim Version: 1.47.0 Command: /home/biocbuild/R/R/bin/R CMD build --keep-empty-dirs --no-resave-data RSVSim StartedAt: 2025-01-29 01:52:33 -0000 (Wed, 29 Jan 2025) EndedAt: 2025-01-29 01:53:44 -0000 (Wed, 29 Jan 2025) EllapsedTime: 71.1 seconds RetCode: 0 Status: OK PackageFile: RSVSim_1.47.0.tar.gz PackageFileSize: 491.1 KiB