Package: RSVSim Version: 1.47.0 Command: /home/biocbuild/R/R/bin/R CMD INSTALL RSVSim StartedAt: 2025-01-29 19:59:06 -0000 (Wed, 29 Jan 2025) EndedAt: 2025-01-29 19:59:49 -0000 (Wed, 29 Jan 2025) EllapsedTime: 43.4 seconds RetCode: 0 Status: OK