Package: RSVSim Version: 1.47.0 Command: /home/biocbuild/bbs-3.21-bioc/R/bin/R CMD build --keep-empty-dirs --no-resave-data RSVSim StartedAt: 2025-02-04 18:59:15 -0500 (Tue, 04 Feb 2025) EndedAt: 2025-02-04 19:00:08 -0500 (Tue, 04 Feb 2025) EllapsedTime: 53.1 seconds RetCode: 0 Status: OK PackageFile: RSVSim_1.47.0.tar.gz PackageFileSize: 505.1 KiB