Package: RSVSim Version: 1.47.0 Command: rm -rf RSVSim.buildbin-libdir && mkdir RSVSim.buildbin-libdir && E:\biocbuild\bbs-3.21-bioc\R\bin\R.exe CMD INSTALL --build --library=RSVSim.buildbin-libdir RSVSim_1.47.0.tar.gz StartedAt: 2025-02-05 08:47:50 -0500 (Wed, 05 Feb 2025) EndedAt: 2025-02-05 08:48:33 -0500 (Wed, 05 Feb 2025) EllapsedTime: 43.1 seconds RetCode: 0 Status: OK PackageFile: RSVSim_1.47.0.zip PackageFileSize: 618.2 KiB