Package: RSVSim Version: 1.47.0 Command: E:\biocbuild\bbs-3.21-bioc\R\bin\R.exe CMD check --no-multiarch --install=check:RSVSim.install-out.txt --library=E:\biocbuild\bbs-3.21-bioc\R\library --no-vignettes --timings RSVSim_1.47.0.tar.gz StartedAt: 2025-02-05 05:20:06 -0500 (Wed, 05 Feb 2025) EndedAt: 2025-02-05 05:24:13 -0500 (Wed, 05 Feb 2025) EllapsedTime: 246.9 seconds RetCode: 0 Status: OK CheckDir: RSVSim.Rcheck Warnings: 0