Package: RTCGA Version: 1.37.0 Command: /home/biocbuild/R/R/bin/R CMD check --install=check:RTCGA.install-out.txt --library=/home/biocbuild/R/R/site-library --no-vignettes --timings RTCGA_1.37.0.tar.gz StartedAt: 2025-01-28 14:47:14 -0000 (Tue, 28 Jan 2025) EndedAt: 2025-01-28 14:51:14 -0000 (Tue, 28 Jan 2025) EllapsedTime: 240.5 seconds RetCode: 1 Status: ERROR CheckDir: RTCGA.Rcheck Warnings: NA