Package: RTCGA Version: 1.37.0 Command: /home/biocbuild/R/R/bin/R CMD INSTALL RTCGA StartedAt: 2025-01-29 20:34:22 -0000 (Wed, 29 Jan 2025) EndedAt: 2025-01-29 20:34:35 -0000 (Wed, 29 Jan 2025) EllapsedTime: 13.2 seconds RetCode: 0 Status: OK