Package: RTCGA Version: 1.37.0 Command: rm -rf RTCGA.buildbin-libdir && mkdir RTCGA.buildbin-libdir && /Users/biocbuild/BBS/utils/build-universal.sh RTCGA_1.37.0.tar.gz /Library/Frameworks/R.framework/Resources/bin/R RTCGA.buildbin-libdir StartedAt: 2025-02-10 01:13:31 -0500 (Mon, 10 Feb 2025) EndedAt: 2025-02-10 01:13:50 -0500 (Mon, 10 Feb 2025) EllapsedTime: 19.5 seconds RetCode: 0 Status: OK PackageFile: RTCGA_1.37.0.tgz PackageFileSize: 2.534 MiB