Package: RTCGA Version: 1.37.0 Command: /home/biocbuild/bbs-3.21-bioc/R/bin/R CMD build --keep-empty-dirs --no-resave-data RTCGA StartedAt: 2025-02-09 19:01:40 -0500 (Sun, 09 Feb 2025) EndedAt: 2025-02-09 19:01:53 -0500 (Sun, 09 Feb 2025) EllapsedTime: 13.0 seconds RetCode: 0 Status: OK PackageFile: RTCGA_1.37.0.tar.gz PackageFileSize: 2.437 MiB