Package: RTCGA Version: 1.37.0 Command: /home/biocbuild/bbs-3.21-bioc/R/bin/R CMD check --install=check:RTCGA.install-out.txt --library=/home/biocbuild/bbs-3.21-bioc/R/site-library --timings RTCGA_1.37.0.tar.gz StartedAt: 2025-02-10 02:08:09 -0500 (Mon, 10 Feb 2025) EndedAt: 2025-02-10 02:10:36 -0500 (Mon, 10 Feb 2025) EllapsedTime: 147.2 seconds RetCode: 0 Status: OK CheckDir: RTCGA.Rcheck Warnings: 0