Package: RTCGA Version: 1.37.0 Command: /home/biocbuild/bbs-3.21-bioc/R/bin/R CMD INSTALL RTCGA StartedAt: 2025-02-04 15:09:36 -0500 (Tue, 04 Feb 2025) EndedAt: 2025-02-04 15:09:51 -0500 (Tue, 04 Feb 2025) EllapsedTime: 14.6 seconds RetCode: 0 Status: OK