Package: RTCGA Version: 1.37.0 Command: chmod a+r RTCGA -R && E:\biocbuild\bbs-3.21-bioc\R\bin\R.exe CMD build --keep-empty-dirs --no-resave-data RTCGA StartedAt: 2025-02-09 21:19:07 -0500 (Sun, 09 Feb 2025) EndedAt: 2025-02-09 21:19:49 -0500 (Sun, 09 Feb 2025) EllapsedTime: 42.4 seconds RetCode: 0 Status: OK PackageFile: RTCGA_1.37.0.tar.gz PackageFileSize: 2.437 MiB