Package: RTN Version: 2.31.0 Command: rm -rf RTN.buildbin-libdir && mkdir RTN.buildbin-libdir && /Users/biocbuild/BBS/utils/build-universal.sh RTN_2.31.0.tar.gz /Library/Frameworks/R.framework/Resources/bin/R RTN.buildbin-libdir StartedAt: 2025-02-09 22:28:51 -0500 (Sun, 09 Feb 2025) EndedAt: 2025-02-09 22:29:07 -0500 (Sun, 09 Feb 2025) EllapsedTime: 16.4 seconds RetCode: 0 Status: OK PackageFile: RTN_2.31.0.tgz PackageFileSize: 10.21 MiB