Package: RTN Version: 2.31.0 Command: /Library/Frameworks/R.framework/Resources/bin/R CMD build --keep-empty-dirs --no-resave-data RTN StartedAt: 2025-02-04 17:28:19 -0500 (Tue, 04 Feb 2025) EndedAt: 2025-02-04 17:29:25 -0500 (Tue, 04 Feb 2025) EllapsedTime: 65.8 seconds RetCode: 0 Status: OK PackageFile: RTN_2.31.0.tar.gz PackageFileSize: 10.26 MiB