Package: RTN Version: 2.31.0 Command: /home/biocbuild/R/R/bin/R CMD build --keep-empty-dirs --no-resave-data RTN StartedAt: 2025-01-29 01:53:22 -0000 (Wed, 29 Jan 2025) EndedAt: 2025-01-29 01:58:33 -0000 (Wed, 29 Jan 2025) EllapsedTime: 311.3 seconds RetCode: 0 Status: OK PackageFile: RTN_2.31.0.tar.gz PackageFileSize: 10.29 MiB