Package: RTN Version: 2.31.0 Command: /Library/Frameworks/R.framework/Resources/bin/R CMD build --keep-empty-dirs --no-resave-data RTN StartedAt: 2025-02-04 18:07:37 -0500 (Tue, 04 Feb 2025) EndedAt: 2025-02-04 18:10:20 -0500 (Tue, 04 Feb 2025) EllapsedTime: 162.4 seconds RetCode: 0 Status: OK PackageFile: RTN_2.31.0.tar.gz PackageFileSize: 10.26 MiB