Package: RTN Version: 2.31.0 Command: /Library/Frameworks/R.framework/Resources/bin/R CMD INSTALL RTN StartedAt: 2025-02-09 15:41:07 -0500 (Sun, 09 Feb 2025) EndedAt: 2025-02-09 15:42:00 -0500 (Sun, 09 Feb 2025) EllapsedTime: 53.1 seconds RetCode: 0 Status: OK