Package: RTN Version: 2.31.0 Command: /home/biocbuild/bbs-3.21-bioc/R/bin/R CMD build --keep-empty-dirs --no-resave-data RTN StartedAt: 2025-02-09 19:01:42 -0500 (Sun, 09 Feb 2025) EndedAt: 2025-02-09 19:04:01 -0500 (Sun, 09 Feb 2025) EllapsedTime: 139.3 seconds RetCode: 0 Status: OK PackageFile: RTN_2.31.0.tar.gz PackageFileSize: 10.26 MiB