Package: RTN Version: 2.31.0 Command: /home/biocbuild/bbs-3.21-bioc/R/bin/R CMD check --install=check:RTN.install-out.txt --library=/home/biocbuild/bbs-3.21-bioc/R/site-library --timings RTN_2.31.0.tar.gz StartedAt: 2025-02-10 02:08:16 -0500 (Mon, 10 Feb 2025) EndedAt: 2025-02-10 02:14:24 -0500 (Mon, 10 Feb 2025) EllapsedTime: 367.6 seconds RetCode: 0 Status: OK CheckDir: RTN.Rcheck Warnings: 0