Package: RTN Version: 2.31.0 Command: rm -rf RTN.buildbin-libdir && mkdir RTN.buildbin-libdir && E:\biocbuild\bbs-3.21-bioc\R\bin\R.exe CMD INSTALL --build --library=RTN.buildbin-libdir RTN_2.31.0.tar.gz StartedAt: 2025-02-05 08:48:07 -0500 (Wed, 05 Feb 2025) EndedAt: 2025-02-05 08:49:37 -0500 (Wed, 05 Feb 2025) EllapsedTime: 90.1 seconds RetCode: 0 Status: OK PackageFile: RTN_2.31.0.zip PackageFileSize: 10.21 MiB