Package: RTN Version: 2.31.0 Command: E:\biocbuild\bbs-3.21-bioc\R\bin\R.exe CMD check --no-multiarch --install=check:RTN.install-out.txt --library=E:\biocbuild\bbs-3.21-bioc\R\library --no-vignettes --timings RTN_2.31.0.tar.gz StartedAt: 2025-02-10 04:55:43 -0500 (Mon, 10 Feb 2025) EndedAt: 2025-02-10 05:00:45 -0500 (Mon, 10 Feb 2025) EllapsedTime: 302.0 seconds RetCode: 0 Status: OK CheckDir: RTN.Rcheck Warnings: 0