Package: RTN Version: 2.31.0 Command: E:\biocbuild\bbs-3.21-bioc\R\bin\R.exe CMD INSTALL RTN StartedAt: 2025-02-09 16:07:31 -0500 (Sun, 09 Feb 2025) EndedAt: 2025-02-09 16:08:29 -0500 (Sun, 09 Feb 2025) EllapsedTime: 57.2 seconds RetCode: 0 Status: OK