Package: RTNduals Version: 1.31.0 Command: /Library/Frameworks/R.framework/Resources/bin/R CMD build --keep-empty-dirs --no-resave-data RTNduals StartedAt: 2025-02-09 17:28:06 -0500 (Sun, 09 Feb 2025) EndedAt: 2025-02-09 17:28:41 -0500 (Sun, 09 Feb 2025) EllapsedTime: 35.4 seconds RetCode: 0 Status: OK PackageFile: RTNduals_1.31.0.tar.gz PackageFileSize: 584.5 KiB