Package: RTNduals Version: 1.31.0 Command: rm -rf RTNduals.buildbin-libdir && mkdir RTNduals.buildbin-libdir && /Users/biocbuild/BBS/utils/build-universal.sh RTNduals_1.31.0.tar.gz /Library/Frameworks/R.framework/Resources/bin/R RTNduals.buildbin-libdir StartedAt: 2025-02-10 01:13:35 -0500 (Mon, 10 Feb 2025) EndedAt: 2025-02-10 01:14:19 -0500 (Mon, 10 Feb 2025) EllapsedTime: 43.9 seconds RetCode: 0 Status: OK PackageFile: RTNduals_1.31.0.tgz PackageFileSize: 738 KiB