Package: RTNduals Version: 1.31.0 Command: /Library/Frameworks/R.framework/Resources/bin/R CMD check --install=check:RTNduals.install-out.txt --library=/Library/Frameworks/R.framework/Resources/library --no-vignettes --timings RTNduals_1.31.0.tar.gz StartedAt: 2025-02-09 23:16:47 -0500 (Sun, 09 Feb 2025) EndedAt: 2025-02-09 23:24:04 -0500 (Sun, 09 Feb 2025) EllapsedTime: 436.7 seconds RetCode: 0 Status: OK CheckDir: RTNduals.Rcheck Warnings: 0