Package: RTNduals Version: 1.31.0 Command: /Library/Frameworks/R.framework/Resources/bin/R CMD INSTALL RTNduals StartedAt: 2025-02-09 15:42:00 -0500 (Sun, 09 Feb 2025) EndedAt: 2025-02-09 15:42:40 -0500 (Sun, 09 Feb 2025) EllapsedTime: 40.3 seconds RetCode: 0 Status: OK