Package: RTNsurvival Version: 1.31.0 Command: rm -rf RTNsurvival.buildbin-libdir && mkdir RTNsurvival.buildbin-libdir && /Users/biocbuild/BBS/utils/build-universal.sh RTNsurvival_1.31.0.tar.gz /Library/Frameworks/R.framework/Resources/bin/R RTNsurvival.buildbin-libdir StartedAt: 2025-02-09 22:28:52 -0500 (Sun, 09 Feb 2025) EndedAt: 2025-02-09 22:29:05 -0500 (Sun, 09 Feb 2025) EllapsedTime: 13.3 seconds RetCode: 0 Status: OK PackageFile: RTNsurvival_1.31.0.tgz PackageFileSize: 952.5 KiB