Package: RTNsurvival Version: 1.31.0 Command: /Library/Frameworks/R.framework/Resources/bin/R CMD INSTALL RTNsurvival StartedAt: 2025-02-12 15:26:58 -0500 (Wed, 12 Feb 2025) EndedAt: 2025-02-12 15:27:11 -0500 (Wed, 12 Feb 2025) EllapsedTime: 12.6 seconds RetCode: 0 Status: OK