Package: RTNsurvival Version: 1.31.0 Command: /Library/Frameworks/R.framework/Resources/bin/R CMD build --keep-empty-dirs --no-resave-data RTNsurvival StartedAt: 2025-02-09 18:15:12 -0500 (Sun, 09 Feb 2025) EndedAt: 2025-02-09 18:16:10 -0500 (Sun, 09 Feb 2025) EllapsedTime: 58.3 seconds RetCode: 0 Status: OK PackageFile: RTNsurvival_1.31.0.tar.gz PackageFileSize: 732.9 KiB