Package: RTNsurvival Version: 1.31.0 Command: rm -rf RTNsurvival.buildbin-libdir && mkdir RTNsurvival.buildbin-libdir && E:\biocbuild\bbs-3.21-bioc\R\bin\R.exe CMD INSTALL --build --library=RTNsurvival.buildbin-libdir RTNsurvival_1.31.0.tar.gz StartedAt: 2025-02-10 08:36:23 -0500 (Mon, 10 Feb 2025) EndedAt: 2025-02-10 08:37:17 -0500 (Mon, 10 Feb 2025) EllapsedTime: 54.3 seconds RetCode: 0 Status: OK PackageFile: RTNsurvival_1.31.0.zip PackageFileSize: 954.7 KiB