Package: RTopper Version: 1.53.0 Command: /Library/Frameworks/R.framework/Resources/bin/R CMD check --install=check:RTopper.install-out.txt --library=/Library/Frameworks/R.framework/Resources/library --no-vignettes --timings RTopper_1.53.0.tar.gz StartedAt: 2025-02-09 21:05:45 -0500 (Sun, 09 Feb 2025) EndedAt: 2025-02-09 21:06:12 -0500 (Sun, 09 Feb 2025) EllapsedTime: 27.3 seconds RetCode: 0 Status: OK CheckDir: RTopper.Rcheck Warnings: 0