Package: RTopper Version: 1.53.0 Command: /home/biocbuild/R/R/bin/R CMD build --keep-empty-dirs --no-resave-data RTopper StartedAt: 2025-01-29 01:53:44 -0000 (Wed, 29 Jan 2025) EndedAt: 2025-01-29 01:55:01 -0000 (Wed, 29 Jan 2025) EllapsedTime: 77.1 seconds RetCode: 0 Status: OK PackageFile: RTopper_1.53.0.tar.gz PackageFileSize: 1.342 MiB