Package: RTopper Version: 1.53.0 Command: rm -rf RTopper.buildbin-libdir && mkdir RTopper.buildbin-libdir && /Users/biocbuild/BBS/utils/build-universal.sh RTopper_1.53.0.tar.gz /Library/Frameworks/R.framework/Resources/bin/R RTopper.buildbin-libdir StartedAt: 2025-02-10 01:13:37 -0500 (Mon, 10 Feb 2025) EndedAt: 2025-02-10 01:13:50 -0500 (Mon, 10 Feb 2025) EllapsedTime: 13.8 seconds RetCode: 0 Status: OK PackageFile: RTopper_1.53.0.tgz PackageFileSize: 1.375 MiB