Package: RTopper Version: 1.53.0 Command: /Library/Frameworks/R.framework/Resources/bin/R CMD build --keep-empty-dirs --no-resave-data RTopper StartedAt: 2025-02-09 18:15:24 -0500 (Sun, 09 Feb 2025) EndedAt: 2025-02-09 18:16:41 -0500 (Sun, 09 Feb 2025) EllapsedTime: 76.6 seconds RetCode: 0 Status: OK PackageFile: RTopper_1.53.0.tar.gz PackageFileSize: 1.348 MiB