Package: RTopper Version: 1.53.0 Command: /Library/Frameworks/R.framework/Resources/bin/R CMD INSTALL RTopper StartedAt: 2025-02-09 15:35:47 -0500 (Sun, 09 Feb 2025) EndedAt: 2025-02-09 15:35:57 -0500 (Sun, 09 Feb 2025) EllapsedTime: 10.2 seconds RetCode: 0 Status: OK