Package: RTopper Version: 1.53.0 Command: /home/biocbuild/bbs-3.21-bioc/R/bin/R CMD build --keep-empty-dirs --no-resave-data RTopper StartedAt: 2025-02-09 19:01:53 -0500 (Sun, 09 Feb 2025) EndedAt: 2025-02-09 19:02:48 -0500 (Sun, 09 Feb 2025) EllapsedTime: 55.1 seconds RetCode: 0 Status: OK PackageFile: RTopper_1.53.0.tar.gz PackageFileSize: 1.349 MiB