Package: RTopper Version: 1.53.0 Command: /home/biocbuild/bbs-3.21-bioc/R/bin/R CMD INSTALL RTopper StartedAt: 2025-02-09 15:13:09 -0500 (Sun, 09 Feb 2025) EndedAt: 2025-02-09 15:13:17 -0500 (Sun, 09 Feb 2025) EllapsedTime: 7.9 seconds RetCode: 0 Status: OK