Package: RTopper Version: 1.53.0 Command: chmod a+r RTopper -R && E:\biocbuild\bbs-3.21-bioc\R\bin\R.exe CMD build --keep-empty-dirs --no-resave-data RTopper StartedAt: 2025-02-10 21:32:12 -0500 (Mon, 10 Feb 2025) EndedAt: 2025-02-10 21:33:35 -0500 (Mon, 10 Feb 2025) EllapsedTime: 82.7 seconds RetCode: 0 Status: OK PackageFile: RTopper_1.53.0.tar.gz PackageFileSize: 1.207 MiB