Package: RTopper Version: 1.53.0 Command: E:\biocbuild\bbs-3.21-bioc\R\bin\R.exe CMD check --no-multiarch --install=check:RTopper.install-out.txt --library=E:\biocbuild\bbs-3.21-bioc\R\library --no-vignettes --timings RTopper_1.53.0.tar.gz StartedAt: 2025-02-11 05:08:39 -0500 (Tue, 11 Feb 2025) EndedAt: 2025-02-11 05:10:05 -0500 (Tue, 11 Feb 2025) EllapsedTime: 86.0 seconds RetCode: 0 Status: OK CheckDir: RTopper.Rcheck Warnings: 0