Package: RTopper Version: 1.53.0 Command: E:\biocbuild\bbs-3.21-bioc\R\bin\R.exe CMD INSTALL RTopper StartedAt: 2025-02-10 16:46:05 -0500 (Mon, 10 Feb 2025) EndedAt: 2025-02-10 16:46:16 -0500 (Mon, 10 Feb 2025) EllapsedTime: 10.8 seconds RetCode: 0 Status: OK