Package: RUVnormalize Version: 1.41.0 Command: rm -rf RUVnormalize.buildbin-libdir && mkdir RUVnormalize.buildbin-libdir && /Users/biocbuild/BBS/utils/build-universal.sh RUVnormalize_1.41.0.tar.gz /Library/Frameworks/R.framework/Resources/bin/R RUVnormalize.buildbin-libdir StartedAt: 2025-02-13 00:56:08 -0500 (Thu, 13 Feb 2025) EndedAt: 2025-02-13 00:56:16 -0500 (Thu, 13 Feb 2025) EllapsedTime: 8.1 seconds RetCode: 0 Status: OK PackageFile: RUVnormalize_1.41.0.tgz PackageFileSize: 221.9 KiB