Package: RUVnormalize Version: 1.41.0 Command: /Library/Frameworks/R.framework/Resources/bin/R CMD INSTALL RUVnormalize StartedAt: 2025-02-12 15:05:22 -0500 (Wed, 12 Feb 2025) EndedAt: 2025-02-12 15:05:51 -0500 (Wed, 12 Feb 2025) EllapsedTime: 28.3 seconds RetCode: 0 Status: OK