Package: RVS Version: 1.29.0 Command: rm -rf RVS.buildbin-libdir && mkdir RVS.buildbin-libdir && /Users/biocbuild/BBS/utils/build-universal.sh RVS_1.29.0.tar.gz /Library/Frameworks/R.framework/Resources/bin/R RVS.buildbin-libdir StartedAt: 2025-02-09 22:29:02 -0500 (Sun, 09 Feb 2025) EndedAt: 2025-02-09 22:29:07 -0500 (Sun, 09 Feb 2025) EllapsedTime: 5.2 seconds RetCode: 0 Status: OK PackageFile: RVS_1.29.0.tgz PackageFileSize: 691.4 KiB