Package: RVS Version: 1.29.0 Command: /Library/Frameworks/R.framework/Resources/bin/R CMD check --install=check:RVS.install-out.txt --library=/Library/Frameworks/R.framework/Resources/library --no-vignettes --timings RVS_1.29.0.tar.gz StartedAt: 2025-02-09 21:06:46 -0500 (Sun, 09 Feb 2025) EndedAt: 2025-02-09 21:08:05 -0500 (Sun, 09 Feb 2025) EllapsedTime: 79.0 seconds RetCode: 0 Status: WARNINGS CheckDir: RVS.Rcheck Warnings: 1