Package: RVS Version: 1.29.0 Command: /home/biocbuild/R/R/bin/R CMD build --keep-empty-dirs --no-resave-data RVS StartedAt: 2025-01-29 01:55:37 -0000 (Wed, 29 Jan 2025) EndedAt: 2025-01-29 01:59:15 -0000 (Wed, 29 Jan 2025) EllapsedTime: 218.2 seconds RetCode: 0 Status: OK PackageFile: RVS_1.29.0.tar.gz PackageFileSize: 456.9 KiB