Package: RVS Version: 1.29.0 Command: rm -rf RVS.buildbin-libdir && mkdir RVS.buildbin-libdir && /Users/biocbuild/BBS/utils/build-universal.sh RVS_1.29.0.tar.gz /Library/Frameworks/R.framework/Resources/bin/R RVS.buildbin-libdir StartedAt: 2025-02-10 01:13:49 -0500 (Mon, 10 Feb 2025) EndedAt: 2025-02-10 01:14:08 -0500 (Mon, 10 Feb 2025) EllapsedTime: 18.6 seconds RetCode: 0 Status: OK PackageFile: RVS_1.29.0.tgz PackageFileSize: 688.9 KiB