Package: RVS Version: 1.29.0 Command: /home/biocbuild/bbs-3.21-bioc/R/bin/R CMD build --keep-empty-dirs --no-resave-data RVS StartedAt: 2025-02-12 18:58:41 -0500 (Wed, 12 Feb 2025) EndedAt: 2025-02-12 19:01:03 -0500 (Wed, 12 Feb 2025) EllapsedTime: 142.2 seconds RetCode: 0 Status: OK PackageFile: RVS_1.29.0.tar.gz PackageFileSize: 627.1 KiB