Package: RVS Version: 1.29.0 Command: /home/biocbuild/bbs-3.21-bioc/R/bin/R CMD INSTALL RVS StartedAt: 2025-02-12 15:12:34 -0500 (Wed, 12 Feb 2025) EndedAt: 2025-02-12 15:12:44 -0500 (Wed, 12 Feb 2025) EllapsedTime: 10.3 seconds RetCode: 0 Status: OK