Package: RVS Version: 1.29.0 Command: rm -rf RVS.buildbin-libdir && mkdir RVS.buildbin-libdir && E:\biocbuild\bbs-3.21-bioc\R\bin\R.exe CMD INSTALL --build --library=RVS.buildbin-libdir RVS_1.29.0.tar.gz StartedAt: 2025-02-13 08:47:40 -0500 (Thu, 13 Feb 2025) EndedAt: 2025-02-13 08:48:16 -0500 (Thu, 13 Feb 2025) EllapsedTime: 35.8 seconds RetCode: 0 Status: OK PackageFile: RVS_1.29.0.zip PackageFileSize: 498.9 KiB