Package: RVS Version: 1.29.0 Command: chmod a+r RVS -R && E:\biocbuild\bbs-3.21-bioc\R\bin\R.exe CMD build --keep-empty-dirs --no-resave-data RVS StartedAt: 2025-02-09 21:20:51 -0500 (Sun, 09 Feb 2025) EndedAt: 2025-02-09 21:23:35 -0500 (Sun, 09 Feb 2025) EllapsedTime: 163.5 seconds RetCode: 0 Status: OK PackageFile: RVS_1.29.0.tar.gz PackageFileSize: 371 KiB